BEGIN:VCALENDAR
VERSION:2.0
PRODID:-//CONFTOOLS Events Calendar//app.conftools.co.za//
BEGIN:VEVENT
SUMMARY:5th H3D SYMPOSIUM
DTSTART:20240521T050000Z
DTEND:20240524T160000Z
DTSTAMP:20260422T180300Z
UID:382T174888130.events.za.co.conftools.app
LOCATION:Radisson Blu Mosi-Oa-Tunya Livingstone Resort
END:VEVENT
END:VCALENDAR
